BEGIN:VCALENDAR
VERSION:2.0
PRODID:-//Columbia Connectors - ECPv6.15.20//NONSGML v1.0//EN
CALSCALE:GREGORIAN
METHOD:PUBLISH
X-ORIGINAL-URL:https://columbiaconnectors.com
X-WR-CALDESC:Events for Columbia Connectors
REFRESH-INTERVAL;VALUE=DURATION:PT1H
X-Robots-Tag:noindex
X-PUBLISHED-TTL:PT1H
BEGIN:VTIMEZONE
TZID:UTC
BEGIN:STANDARD
TZOFFSETFROM:+0000
TZOFFSETTO:+0000
TZNAME:UTC
DTSTART:20240101T000000
END:STANDARD
END:VTIMEZONE
BEGIN:VEVENT
DTSTART;TZID=UTC:20250108T081500
DTEND;TZID=UTC:20250108T093000
DTSTAMP:20260420T045446
CREATED:20241220T002757Z
LAST-MODIFIED:20241220T002757Z
UID:1470-1736324100-1736328600@columbiaconnectors.com
SUMMARY:Coffee with Connectors: Cam Maynard & John Burnside
DESCRIPTION:Happy New Year! Welcome to our monthly coffee meeting that provides opportunities for business networking\, professional development\, and community connection. Coffee will be set up and provided by Chick-fil-a. Please try your best to arrive around 8:15 so we can start the meeting at 8:30 sharp. \nWe will be hearing from Cam Maynard – Owner of Greenworks Lawncare\, and John Burnside\, General Manager at Meetze Plumbing. \n\nWe have exciting things happening in 2025 so stay tuned!
URL:https://columbiaconnectors.com/event/coffee-with-connectors-jan-2025/
LOCATION:Za’s on Devine\, 2930 Devine St\, Columbia\, SC 29205
CATEGORIES:Coffee with Connectors
ATTACH;FMTTYPE=image/png:https://columbiaconnectors.com/wp-content/uploads/2024/12/January-2025.png
END:VEVENT
BEGIN:VEVENT
DTSTART;TZID=UTC:20250116T173000
DTEND;TZID=UTC:20250116T203000
DTSTAMP:20260420T045446
CREATED:20231130T050000Z
LAST-MODIFIED:20241205T024700Z
UID:222-1737048600-1737059400@columbiaconnectors.com
SUMMARY:Columbia Connectors Annual Roast & Toast
DESCRIPTION:Join The Columbia Connectors for a shucking good time at our annual Roast & Toast! Get ready to indulge in a mouthwatering feast of fresh\, succulent oysters and jambalaya presented by Farm 2 Table Productions. The event will be held at City Roots\, an 8-acre family-owned organic farm located in Columbia\, and is South Carolina’s first urban farm established in 2009. Enjoy the evening with picturesque skies\, plenty of warmth provided by fires\, and some live tunes by our friends Abbey Elmore Band. \nYou will not want to miss this once-a-year opportunity to connect with Columbia’s talented professionals and enjoy an evening of genuine fun down on the farm! \nCurrent Connectors get in FREE! If you would like more information about membership\, then please email Lauren at ColumbiaConnectors@gmail.com.
URL:https://columbiaconnectors.com/event/cc-oyster-roast25/
LOCATION:City Roots\, 1005 Airport Blvd\, Columbia\, SC 29205
CATEGORIES:Connectors Social
ATTACH;FMTTYPE=image/png:https://columbiaconnectors.com/wp-content/uploads/2024/03/Oyster-Roast.png
END:VEVENT
END:VCALENDAR