BEGIN:VCALENDAR
VERSION:2.0
PRODID:-//Columbia Connectors - ECPv6.15.20//NONSGML v1.0//EN
CALSCALE:GREGORIAN
METHOD:PUBLISH
X-ORIGINAL-URL:https://columbiaconnectors.com
X-WR-CALDESC:Events for Columbia Connectors
REFRESH-INTERVAL;VALUE=DURATION:PT1H
X-Robots-Tag:noindex
X-PUBLISHED-TTL:PT1H
BEGIN:VTIMEZONE
TZID:UTC
BEGIN:STANDARD
TZOFFSETFROM:+0000
TZOFFSETTO:+0000
TZNAME:UTC
DTSTART:20250101T000000
END:STANDARD
END:VTIMEZONE
BEGIN:VEVENT
DTSTART;TZID=UTC:20260506T081500
DTEND;TZID=UTC:20260506T093000
DTSTAMP:20260421T074755
CREATED:20260310T133659Z
LAST-MODIFIED:20260417T193802Z
UID:2460-1778055300-1778059800@columbiaconnectors.com
SUMMARY:Connectors Coffee with Sheldon Paschal
DESCRIPTION:Join us on May 6th for a dynamic networking experience designed to go beyond small talk and foster meaningful connection at Za’s on Devine facilitated by our Vice Chair\, Sheldon Paschal. \n “Three-Dimensional Leadership: Head\, Heart & Hands” will give you a chance to engage with fellow Connectors in a way that’s both thoughtful and energizing Facilitated by Vice Chair Sheldon Paschal\, this networking session will explore how we think\, relate\, and take action as leaders in our work and community. Through guided conversations and interactions\, you’ll gain fresh perspectives\, share your own experiences\, and continue building authentic connections.  \nWhether you’re looking to sharpen your decision-making\, deepen your relationships\, or turn ideas into action\, this experience will leave you with practical insights and meaningful interactions.  \nCome ready to participate\, connect\, and walk away inspired to lead and engage with clarity\, compassion\, and purpose.
URL:https://columbiaconnectors.com/event/coffee-with-sheldon/
LOCATION:Za’s on Devine\, 2930 Devine St\, Columbia\, SC 29205
CATEGORIES:Coffee with Connectors
ATTACH;FMTTYPE=image/png:https://columbiaconnectors.com/wp-content/uploads/2025/06/August-2025.png
END:VEVENT
BEGIN:VEVENT
DTSTART;TZID=UTC:20260603T081500
DTEND;TZID=UTC:20260603T093000
DTSTAMP:20260421T074755
CREATED:20260310T134850Z
LAST-MODIFIED:20260310T134850Z
UID:2462-1780474500-1780479000@columbiaconnectors.com
SUMMARY:Field Trip to the Pastides Alumni Center
DESCRIPTION:Summer is almost here!🌻 \nJoin us on June 3\, 2026 to have coffee at the Pastides Alumni Center at the University of South Carolina! \nThe Pastides Alumni Center is a premier event and gathering space located in downtown Columbia’s Vista district near the University of South Carolina campus. The facility serves as the home of the University of South Carolina Alumni Association and hosts a wide range of events\, from professional meetings and conferences to weddings and community gatherings. Its modern design and central location make it one of the most sought-after venues in the Columbia area. \nWe can’t wait to see you there!
URL:https://columbiaconnectors.com/event/pastides-alumni-center/
LOCATION:Pastides Alumni Center\, 900 Senate St\, Columbia\, SC 29201
CATEGORIES:Coffee with Connectors
ATTACH;FMTTYPE=image/png:https://columbiaconnectors.com/wp-content/uploads/2026/03/June-2026-1.png
END:VEVENT
END:VCALENDAR