BEGIN:VCALENDAR
VERSION:2.0
PRODID:-//Columbia Connectors - ECPv6.15.20//NONSGML v1.0//EN
CALSCALE:GREGORIAN
METHOD:PUBLISH
X-ORIGINAL-URL:https://columbiaconnectors.com
X-WR-CALDESC:Events for Columbia Connectors
REFRESH-INTERVAL;VALUE=DURATION:PT1H
X-Robots-Tag:noindex
X-PUBLISHED-TTL:PT1H
BEGIN:VTIMEZONE
TZID:UTC
BEGIN:STANDARD
TZOFFSETFROM:+0000
TZOFFSETTO:+0000
TZNAME:UTC
DTSTART:20240101T000000
END:STANDARD
END:VTIMEZONE
BEGIN:VEVENT
DTSTART;TZID=UTC:20251120T180000
DTEND;TZID=UTC:20251120T210000
DTSTAMP:20260424T045447
CREATED:20231101T050000Z
LAST-MODIFIED:20251106T200834Z
UID:221-1763661600-1763672400@columbiaconnectors.com
SUMMARY:Vista Lights with Grace Outdoor
DESCRIPTION:You are all cordially invited to join us at Grace Outdoor for our annual Vista Lights party! Our office is located in the heart of Vista\, so please join us in celebrating the festivities that the Vista Guild so beautifully puts together.  We will have drinks\, snacks\, and treats\, as well as rooftop viewing of the fun activities below on Lincoln St.\n\nThe party begins at 6:00pm on Thursday\, November 20.\n \nOur office is located at:\n\n1201 Lincoln St\nSuite 300\nColumbia\, SC 29201\n \nBring your spouse\, kids\, or friends\, and come join the fun!  We appreciate those of you that have joined us in the past and we look forward to hosting you all again.
URL:https://columbiaconnectors.com/event/vista-lights-grace-outdoor/
LOCATION:Grace Outdoor\, 1201 Lincoln St Suite 300 Columbia\, SC 29201
CATEGORIES:Connectors Social
ATTACH;FMTTYPE=image/jpeg:https://columbiaconnectors.com/wp-content/uploads/2023/11/60.jpg
END:VEVENT
END:VCALENDAR