BEGIN:VCALENDAR
VERSION:2.0
PRODID:-//Columbia Connectors - ECPv6.15.20//NONSGML v1.0//EN
CALSCALE:GREGORIAN
METHOD:PUBLISH
X-ORIGINAL-URL:https://columbiaconnectors.com
X-WR-CALDESC:Events for Columbia Connectors
REFRESH-INTERVAL;VALUE=DURATION:PT1H
X-Robots-Tag:noindex
X-PUBLISHED-TTL:PT1H
BEGIN:VTIMEZONE
TZID:UTC
BEGIN:STANDARD
TZOFFSETFROM:+0000
TZOFFSETTO:+0000
TZNAME:UTC
DTSTART:20240101T000000
END:STANDARD
END:VTIMEZONE
BEGIN:VEVENT
DTSTART;TZID=UTC:20250205T081500
DTEND;TZID=UTC:20250205T093000
DTSTAMP:20260420T045413
CREATED:20250122T003910Z
LAST-MODIFIED:20250122T213525Z
UID:1560-1738743300-1738747800@columbiaconnectors.com
SUMMARY:Coffee with Connectors: Sheldon Paschal
DESCRIPTION:‘Roll Your Sleeves Up and Loosen the Tie: Digging into Authenticity and Intention in Growing Our Networks and Impact’\n\n\nIn today’s fast-paced world\, networking and community engagement can often feel time consuming and transactional\, leaving us disconnected from the deeper purpose of building meaningful relationships and influencing impact. At times though\, the pressure of finding ‘meaningful’ relationships can also seem off-putting because how do we define a ‘meaningful relationship’ in community and work contexts? ‘Roll Your Sleeves Up and Loosen the Tie’ is designed to challenge the status quo\, explore building lasting connections\, find avenues for deeper impact and hopefully leave you(metaphorically and literally) standing on the balls of your feet rather than leaning back on your heels. Together\, we’ll explore how embracing authenticity\, curiosity\, humility and clear intention can bridge the gaps in our approach to networking\, creating relationships and connections that are both impactful and deeply fulfilling.\n\nThrough engaging discussions\, interactive activities\, and personal reflection\, you’ll gain practical tools to:\n\n– Build genuine connections that align with your values.\n– Identify and address blind spots in your approach to connecting with colleagues and peers in and out of the office.\n– Foster a sense of purpose in the way you grow your personal and professional communities.\n– Find ways to specifically engage with our community influencing impact.\n\nThis event is for those seeking more than surface-level exchanges and engagement—it’s for those ready to grow their networks and impact with integrity\, authenticity\, and intention.
URL:https://columbiaconnectors.com/event/community-involvement/
LOCATION:Za’s on Devine\, 2930 Devine St\, Columbia\, SC 29205
CATEGORIES:Coffee with Connectors
ATTACH;FMTTYPE=image/png:https://columbiaconnectors.com/wp-content/uploads/2025/01/February-2025-1.png
END:VEVENT
END:VCALENDAR